BEGIN:VCALENDAR
VERSION:2.0
PRODID:-//La Coupole - ECPv6.15.20//NONSGML v1.0//EN
CALSCALE:GREGORIAN
METHOD:PUBLISH
X-ORIGINAL-URL:https://lacoupole-france.com
X-WR-CALDESC:Évènements pour La Coupole
REFRESH-INTERVAL;VALUE=DURATION:PT1H
X-Robots-Tag:noindex
X-PUBLISHED-TTL:PT1H
BEGIN:VTIMEZONE
TZID:Europe/Paris
BEGIN:DAYLIGHT
TZOFFSETFROM:+0100
TZOFFSETTO:+0200
TZNAME:CEST
DTSTART:20210328T010000
END:DAYLIGHT
BEGIN:STANDARD
TZOFFSETFROM:+0200
TZOFFSETTO:+0100
TZNAME:CET
DTSTART:20211031T010000
END:STANDARD
BEGIN:DAYLIGHT
TZOFFSETFROM:+0100
TZOFFSETTO:+0200
TZNAME:CEST
DTSTART:20220327T010000
END:DAYLIGHT
BEGIN:STANDARD
TZOFFSETFROM:+0200
TZOFFSETTO:+0100
TZNAME:CET
DTSTART:20221030T010000
END:STANDARD
BEGIN:DAYLIGHT
TZOFFSETFROM:+0100
TZOFFSETTO:+0200
TZNAME:CEST
DTSTART:20230326T010000
END:DAYLIGHT
BEGIN:STANDARD
TZOFFSETFROM:+0200
TZOFFSETTO:+0100
TZNAME:CET
DTSTART:20231029T010000
END:STANDARD
END:VTIMEZONE
BEGIN:VEVENT
DTSTART;TZID=Europe/Paris:20220703T100000
DTEND;TZID=Europe/Paris:20220703T180000
DTSTAMP:20260424T063850
CREATED:20220603T121514Z
LAST-MODIFIED:20220701T142742Z
UID:9016-1656842400-1656871200@lacoupole-france.com
SUMMARY:La nature nous livre ses secrets
DESCRIPTION:? Pour la 8e année\, La Coupole et Eden 62 s’associent le temps d’une journée afin de faire (re)découvrir au public le patrimoine naturel et historique de ses sites. Concours de fusées à eau\, randonnée\, ateliers sur les secrets de l’ortie\, visites guidées\, marché du terroir… Venez en famille profiter du programme ? \nRandonnée* avec la section marche de l’Amicale laïque de Wizernes\nDépart 8h30 – longueur : 11\,3 kilomètres (gratuit) \nTrail nature* avec l’association Watten Cassel Organisations Diverses\nDépart 10h30 – longueur : 6\,5 kilomètres\nTarif : 3 € / personne au profit de deux associations audomaroises : la Ligue pour la Protection des Oiseaux du Pas-de-Calais et l’Amicale laïque de Wizernes \n3 visites guidées* sur le thème de la nature et de l’histoire\nEntre les galeries souterraines de La Coupole et les sentiers de la Rivière jaune\nDéparts à 10h30\, 13h30 et 15h30 – durée : 2h (gratuit) \nYoga nature* avec Laetitia Degruillier\n11h00 (spéciale famille) et 16h00 (adulte) – durée : 1h30 (gratuit) \nConcours de fusées à eau*\nDe nombreuses récompenses à gagner (élection de la plus belle fusée et de la plus grande distance parcourue)\nDe 13h30 à 14h30 pour la catégorie des 6-9 ans et de 14h30 à 16h pour celle des 10-12 ans (gratuit) \nBalades sur les bienfaits des plantes*\nDéparts à 11h00 et 15h00 – durée : 1h30 (gratuit) \n* Réservation obligatoire au ? 03 21 12 27 27 ou à ? reservation@lacoupole.com \nTout au long de la journée :\nMarché des artisans\nAnimations : venez découvrir quelle plante vous livrera ses secrets en participant aux ateliers proposés tout au long de la journée par Eden 62\, La Coupole\, Elodie Delhelle\, Clarence Tourisme\, la CAPSO\, le PNR des Caps et Marais d’Opale\, le CERA\, Urti K…\nDes spectacles par le Sceau du Tremplin ponctueront l’après-midi
URL:https://lacoupole-france.com/agenda-culturel/la-nature-nous-livre-ses-secrets/
CATEGORIES:Autre événement
END:VEVENT
BEGIN:VEVENT
DTSTART;TZID=Europe/Paris:20220708T203000
DTEND;TZID=Europe/Paris:20220710T190000
DTSTAMP:20260424T063850
CREATED:20220617T074113Z
LAST-MODIFIED:20220629T064533Z
UID:9233-1657312200-1657479600@lacoupole-france.com
SUMMARY:Le Planétarium 3D de La Coupole fête ses 10 ans
DESCRIPTION:? À l’occasion des 10 ans d’ouverture au public du Planétarium 3D\, l’équipe de La Coupole vous a concocté un programme spécial * : \nLe vendredi 8 juillet\n? Concert « Les planètes » de Gustav Holst à 20h30\nDans une adaptation inédite pour l’Ensemble de Saxophones des Hauts-de-France\, venez (re)découvrir « Les Planètes » de Gustav Holst en interaction avec le Planétarium 10K-3D de La Coupole. Une œuvre orchestrale spécialement réécrite pour cet ensemble avec percussions.\n| Tarif : 12 €\n| Infos et réservation au ? 03 21 12 27 27 ou à ? reservation@lacoupole.com \nLe samedi 9 juillet\n? Quiz astro à 20h30\nVenez tester vos connaissances en astronomie ainsi que sur les planètes du Système solaire à l’aide des boitiers de vote du Planétarium 3D.\n| Infos et réservation au ? 03 21 12 27 27 ou à ? reservation@lacoupole.com \n? Observations du ciel à partir de 22h\nEn compagnie des médiateurs scientifiques du Planétarium 3D \nLe samedi 9 et le dimanche 10 juillet\n? Visite des coulisses du Planétarium 3D à 9h15 et 10h\nAccompagné(e) d’un de nos médiateurs scientifiques\, partez à la découverte du Planétarium 3D de La Coupole et venez entrevoir l’envers du décor et les coulisses de ce lieu à la pointe de la technologie.\n| Durée : 30 minutes\n| Infos et réservation au ? 03 21 12 27 27 ou à ? reservation@lacoupole.com \n? Séances de Planétarium 3D à tarif réduit\nProfitez de nos séances à tarif réduit durant tout ce week-end anniversaire. Au programme :\n? 11h : séance en direct « Ces pierres tombées du ciel »\n? 12h15 : D-Day\, Normandie 1944\n? 14h : Polaris\n? 15h15 : Voyager\n? 16h45 : Dream to Fly\n? 18h : Explore\n| Tarif : 5 € / adulte et 3\,50 € / enfant (4-12 ans)\n| Infos et réservation au ? 03 21 12 27 27 ou à ? reservation@lacoupole.com \n? Atelier « Info / Infox » à 14h30\nGrace à un scénario immersif et ludique\, nos médiateurs vous donneront des clefs pour vérifier une information grâce à la démarche du journalisme scientifique. Sous forme de jeu\, vous pourrez ainsi mieux appréhender les réseaux sociaux et les fausses informations qui peuvent y circuler. Votre mission : aider la rédaction du magazine « Ciel monospace » à identifier les infox\, remplacez-les par de nouveaux sujets et construisez la une du dernier numéro du magazine.\n| À partir de 10 ans\n| Durée : 1h30\n| Infos et réservation au ? 03 21 12 27 27 ou à ? reservation@lacoupole.com \n? Atelier « Robotique » à 17h\nCet atelier s’articule autour de trois domaines scientifiques : la robotique\, l’informatique car il s’agit de construire et de programmer un robot capable d’effectuer diverses tâches\, mais également l’astronautique avec la création d’un programme d’exploration de Mars.\n| À partir de 10 ans\n| Durée : 1h30\n| Infos et réservation au ? 03 21 12 27 27 ou à ? reservation@lacoupole.com \n? Portes ouvertes de l’École d’astronomie de La Coupole\nVulgariser les sciences et rendre l’astronomie accessible à tous\, voici le but de l’École d’astronomie de La Coupole. Forte de son action culturelle et pédagogique\, celle-ci propose de nombreux stages et s’appuie sur une équipe de médiateurs qualifiés et agréés par l’Association Française d’Astronomie (AFA).\n| Accès libre \n* Ne manquez pas de rester connecté(e)s\, on vous réserve bientôt une surprise… astronomique ?
URL:https://lacoupole-france.com/agenda-culturel/le-planetarium-3d-de-la-coupole-fete-ses-10-ans/
CATEGORIES:Autre événement
END:VEVENT
BEGIN:VEVENT
DTSTART;TZID=Europe/Paris:20220712T163000
DTEND;TZID=Europe/Paris:20220712T173000
DTSTAMP:20260424T063850
CREATED:20220706T150123Z
LAST-MODIFIED:20220711T095042Z
UID:9634-1657643400-1657647000@lacoupole-france.com
SUMMARY:Diffusion historique des premières images livrées par le télescope spatial James Webb au Planétarium 3D de La Coupole
DESCRIPTION:Le mardi 12 juillet prochain\, lors d’une séance exceptionnelle au Planétarium 3D de La Coupole\, venez découvrir en exclusivité les toutes premières images et données spectroscopiques livrées par le nouveau télescope spatial James Webb. Parmi celles qui seront dévoilées est notamment attendue « l’image la plus profonde jamais prise de notre univers ». \nL’événement sera animé par notre astrophysicien et spécialiste de l’astronomie infrarouge\, Nicolas Fiolet. \nTout public\nInfos et réservation au 03 21 12 27 27 ou sur reservation@lacoupole.com
URL:https://lacoupole-france.com/agenda-culturel/diffusion-a-la-coupole-des-premieres-images-livrees-par-le-telescope-spatial-james-webb/
CATEGORIES:Autre événement
END:VEVENT
END:VCALENDAR