BEGIN:VCALENDAR
VERSION:2.0
PRODID:-//La Coupole - ECPv6.15.20//NONSGML v1.0//EN
CALSCALE:GREGORIAN
METHOD:PUBLISH
X-ORIGINAL-URL:https://lacoupole-france.com
X-WR-CALDESC:Évènements pour La Coupole
REFRESH-INTERVAL;VALUE=DURATION:PT1H
X-Robots-Tag:noindex
X-PUBLISHED-TTL:PT1H
BEGIN:VTIMEZONE
TZID:Europe/Paris
BEGIN:DAYLIGHT
TZOFFSETFROM:+0100
TZOFFSETTO:+0200
TZNAME:CEST
DTSTART:20210328T010000
END:DAYLIGHT
BEGIN:STANDARD
TZOFFSETFROM:+0200
TZOFFSETTO:+0100
TZNAME:CET
DTSTART:20211031T010000
END:STANDARD
BEGIN:DAYLIGHT
TZOFFSETFROM:+0100
TZOFFSETTO:+0200
TZNAME:CEST
DTSTART:20220327T010000
END:DAYLIGHT
BEGIN:STANDARD
TZOFFSETFROM:+0200
TZOFFSETTO:+0100
TZNAME:CET
DTSTART:20221030T010000
END:STANDARD
BEGIN:DAYLIGHT
TZOFFSETFROM:+0100
TZOFFSETTO:+0200
TZNAME:CEST
DTSTART:20230326T010000
END:DAYLIGHT
BEGIN:STANDARD
TZOFFSETFROM:+0200
TZOFFSETTO:+0100
TZNAME:CET
DTSTART:20231029T010000
END:STANDARD
END:VTIMEZONE
BEGIN:VEVENT
DTSTART;TZID=Europe/Paris:20221209T183000
DTEND;TZID=Europe/Paris:20221209T183000
DTSTAMP:20260423T224148
CREATED:20221114T154728Z
LAST-MODIFIED:20221114T154728Z
UID:13044-1670610600-1670610600@lacoupole-france.com
SUMMARY:Café Géo(cou)pole | « La guerre en Ukraine\, reflet d’un monde en recomposition »
DESCRIPTION:Le 24 février 2022\, le président russe Vladimir Poutine lançait une campagne militaire d’invasion de l’Ukraine\, un geste aux nombreuses répercussions locales et internationales. \nLe 9 décembre prochain\, La Coupole vous invite à participer au Café Géo(cou)pole : « La guerre en Ukraine\, reflet d’un monde en recomposition ». Théodore BODY et Florent FILIPPI\, professeurs d’histoire-géographie\, animeront les échanges pour vous apporter les clefs nécessaires à la compréhension de ce conflit européen présent dans l’actualité depuis plusieurs mois. Une approche de la géopolitique et de la géohistoire qui se veut accessible à tous et ouverte à la discussion. \n| À partir de 14 ans\n| Infos et réservation au 03 21 12 27 27 ou à reservation@lacoupole.com
URL:https://lacoupole-france.com/agenda-culturel/cafe-geocoupole-la-guerre-en-ukraine-reflet-dun-monde-en-recomposition/
CATEGORIES:Autre événement
END:VEVENT
END:VCALENDAR