BEGIN:VCALENDAR
VERSION:2.0
PRODID:-//La Coupole - ECPv6.15.20//NONSGML v1.0//EN
CALSCALE:GREGORIAN
METHOD:PUBLISH
X-WR-CALNAME:La Coupole
X-ORIGINAL-URL:https://lacoupole-france.com
X-WR-CALDESC:Évènements pour La Coupole
REFRESH-INTERVAL;VALUE=DURATION:PT1H
X-Robots-Tag:noindex
X-PUBLISHED-TTL:PT1H
BEGIN:VTIMEZONE
TZID:Europe/Paris
BEGIN:DAYLIGHT
TZOFFSETFROM:+0100
TZOFFSETTO:+0200
TZNAME:CEST
DTSTART:20220327T010000
END:DAYLIGHT
BEGIN:STANDARD
TZOFFSETFROM:+0200
TZOFFSETTO:+0100
TZNAME:CET
DTSTART:20221030T010000
END:STANDARD
BEGIN:DAYLIGHT
TZOFFSETFROM:+0100
TZOFFSETTO:+0200
TZNAME:CEST
DTSTART:20230326T010000
END:DAYLIGHT
BEGIN:STANDARD
TZOFFSETFROM:+0200
TZOFFSETTO:+0100
TZNAME:CET
DTSTART:20231029T010000
END:STANDARD
BEGIN:DAYLIGHT
TZOFFSETFROM:+0100
TZOFFSETTO:+0200
TZNAME:CEST
DTSTART:20240331T010000
END:DAYLIGHT
BEGIN:STANDARD
TZOFFSETFROM:+0200
TZOFFSETTO:+0100
TZNAME:CET
DTSTART:20241027T010000
END:STANDARD
END:VTIMEZONE
BEGIN:VEVENT
DTSTART;TZID=Europe/Paris:20230226T150000
DTEND;TZID=Europe/Paris:20230226T170000
DTSTAMP:20260423T192201
CREATED:20230124T135140Z
LAST-MODIFIED:20230124T135140Z
UID:17007-1677423600-1677430800@lacoupole-france.com
SUMMARY:Après-midi « Contes et crêpes » avec Maribambelle
DESCRIPTION:Participez à un après-midi convivial à La Coupole qui sera rythmé entre lecture de contes et dégustation de crêpes. \nConteuse : Marie-Hélène Candaes \n| À partir de 10 ans\n| Tarif : 5 € (comprenant le conte\, une crêpe sucrée et une boisson chaude)\n| Infos et réservation au 03 21 12 27 27 ou à reservation@lacoupole.com
URL:https://lacoupole-france.com/agenda-culturel/apres-midi-contes-et-crepes-avec-maribambelle/
CATEGORIES:Autre événement
END:VEVENT
END:VCALENDAR