BEGIN:VCALENDAR
VERSION:2.0
PRODID:-//La Coupole - ECPv6.15.20//NONSGML v1.0//EN
CALSCALE:GREGORIAN
METHOD:PUBLISH
X-ORIGINAL-URL:https://lacoupole-france.com
X-WR-CALDESC:Évènements pour La Coupole
REFRESH-INTERVAL;VALUE=DURATION:PT1H
X-Robots-Tag:noindex
X-PUBLISHED-TTL:PT1H
BEGIN:VTIMEZONE
TZID:Europe/Paris
BEGIN:DAYLIGHT
TZOFFSETFROM:+0100
TZOFFSETTO:+0200
TZNAME:CEST
DTSTART:20220327T010000
END:DAYLIGHT
BEGIN:STANDARD
TZOFFSETFROM:+0200
TZOFFSETTO:+0100
TZNAME:CET
DTSTART:20221030T010000
END:STANDARD
BEGIN:DAYLIGHT
TZOFFSETFROM:+0100
TZOFFSETTO:+0200
TZNAME:CEST
DTSTART:20230326T010000
END:DAYLIGHT
BEGIN:STANDARD
TZOFFSETFROM:+0200
TZOFFSETTO:+0100
TZNAME:CET
DTSTART:20231029T010000
END:STANDARD
BEGIN:DAYLIGHT
TZOFFSETFROM:+0100
TZOFFSETTO:+0200
TZNAME:CEST
DTSTART:20240331T010000
END:DAYLIGHT
BEGIN:STANDARD
TZOFFSETFROM:+0200
TZOFFSETTO:+0100
TZNAME:CET
DTSTART:20241027T010000
END:STANDARD
END:VTIMEZONE
BEGIN:VEVENT
DTSTART;TZID=Europe/Paris:20230902T183000
DTEND;TZID=Europe/Paris:20230902T193000
DTSTAMP:20260423T071946
CREATED:20230612T132602Z
LAST-MODIFIED:20230612T135838Z
UID:22026-1693679400-1693683000@lacoupole-france.com
SUMMARY:Représentation « Et après »
DESCRIPTION:Avec la Compagnie Charbascat. \nNotre première création intitulée « Et après ? » s’est révélée comme une évidence. Notre quotidien\, alors rythmé par les différents protocoles sanitaires\, a nourri notre propos et la projection chorégraphique de cette création. Dès le début\, nous avons dû développer\, affiner notre capacité d’adaptation\, gérer des moments de frustration\, de solitude\, d’incompréhension… Et nous avons fait le choix de refuser de renoncer à vivre\, à danser\, à nous réaliser au travers de notre passion… en faisant preuve de résilience. \n| Tout public\n| Gratuit\n| Infos et réservation au 03 21 12 27 27 ou à reservation@lacoupole.com
URL:https://lacoupole-france.com/agenda-culturel/representation-et-apres/
CATEGORIES:Autre événement
END:VEVENT
BEGIN:VEVENT
DTSTART;TZID=Europe/Paris:20230915T203000
DTEND;TZID=Europe/Paris:20230916T230000
DTSTAMP:20260423T071946
CREATED:20230821T133923Z
LAST-MODIFIED:20230912T075119Z
UID:23518-1694809800-1694905200@lacoupole-france.com
SUMMARY:2e édition du Festival Fulldome
DESCRIPTION:Les 15 et 16 septembre prochain aura lieu\, dès 20h30 au Planétarium 3D de La Coupole\, la 2e édition du Festival Fulldome organisée par l’Association des Planétariums de Langue Française (APLF). \nDix films au total ont été sélectionnés et concourent pour le prix du public et le prix des professionnels. Plusieurs nationalités seront représentées (française\, américaine\, japonaise et allemande) avec des thématiques variées. \nLes spectateurs du Planétarium de La Coupole\, mais aussi du Centre d’Astronomie de Saint-Michel-l’Observatoire\, avec qui nous serons en duplex\, seront invités à se mettre dans la peau du jury du festival de Cannes en votant pour les films en compétition et décider lequel recevra le très convoité « Prix du public ». \nPour des raisons d’équité\, l’ensemble des films seront projetés en 2D puisque le planétarium des Alpes-de-Haute-Provence ne dispose pas de la 3D. À noter que certains films ayant concouru l’année dernière représentent leur candidature comme « GranPa et Zoé » ou encore « Noisette : à la recherche de la planète idéale ». \nVendredi 15 septembre\n? Starmap : To the Unseen Universe (de Hiromitsu Kohsaka – Japon\, 27 min)\nAu-delà du ciel étoilé\, un voyage inimaginable est sur le point de commencer ! Où sommes-nous ? Si nous pouvions voler au-dessus de l’atmosphère terrestre et dans l’espace\, quel genre de paysage apparaîtrait devant nous ? Nous voyagerons à travers notre Système solaire et zoomerons au-delà des nombreuses étoiles du bras galactique d’Orion\, de la Voie lactée\, du groupe local de galaxies\, du superamas de la Vierge et au-delà. À travers le paysage cosmique\, nous rencontrerons de belles scènes d’objets dynamiques et célestes. C’est l’univers\, comme vous ne l’avez jamais vu auparavant !\n? Our Violent Planet (de Iryna Filipova – Ukraine\, 28 min)\nNous vivons nos vies sur la croûte fracturée de notre planète\, des « plaques » qui se détachent\, se heurtent\, se dépassent et même s’enfoncent les unes sous les autres\, produisant de violents tremblements de terre\, des éruptions volcaniques et de catastrophiques murs d’eau appelés tsunamis.\n? Experience Switzerland (de Urs Wyss – Suisse\, 27 min)\nEmbarquez pour une aventure cinématographique à couper le souffle à travers les paysages magnifiques de la Suisse dans ce fascinant film fulldome. Experience Switzerland vous emmène dans un voyage spectaculaire vers les destinations les plus impressionnantes du pays\, des villes animées aux glaciers majestueux et aux lacs tranquilles. Survolez le Cervin\, glissez sur le glacier d’Aletsch et profitez d’une vue plongeante sur la ville de Genève avant de vous retrouver au milieu des vignobles pittoresques surplombant le lac Léman. Émerveillez-vous devant le time-lapse de la Voie lactée traversant le ciel nocturne et culminant par un lever de soleil à couper le souffle à l’horizon. Laissez-vous enchanter par la beauté des ruisseaux\, des cascades et des bateaux qui offrent une multitude de stimuli visuels. Accompagné d’une bande-son puissante et épique\, Experience Switzerland promet une expérience extraordinaire et inoubliable pour l’ensemble du public.\n? GranPa et Zoé (de Stéphane Bertrand et Damien Maugin – France\, 27 min)\nGranPa et sa jeune acolyte Zoé coulent tous deux des jours paisibles dans leur ranch\, jusqu’au jour où leur tranquillité est perturbée par un évènement étrange : la lumière du soleil décline et semble disparaître. Pas le temps d’attendre ! Les deux héros s’engagent dans une course contre-la-montre pour sauver la lumière.\n? Le Petit Major Tom (de Peter Popp – Allemagne\, 27 min)\nEn l’an 2050\, Tom et Stella\, deux adolescents\, perfectionnent leurs compétences d’astronaute à bord de « Space Camp 1 ». Tom est une vraie boule de nerfs tandis qu’il se prépare pour sa première sortie dans l’espace\, mais ce test déraille quand son père est rappelé sur Terre à cause d’un énorme ouragan en formation. À cause du changement climatique\, ce pourrait être le plus grand — et le plus dévastateur — ouragan jamais connu ! Le petit major Tom est un récit d’aventure spatiale\, conçu exclusivement pour les planétariums\, mettant en vedette des personnages confrontés à de nouvelles situations difficiles. Les détails des voyages spatiaux\, du changement climatique et de nos vies futures dans l’espace ont fait l’objet de recherches approfondies dans cette expérience visuellement étonnante. Les publics de tous âges apprécieront cette histoire passionnante d’amitié\, de travail d’équipe et de bravoure. \nSamedi 16 septembre\n? -22.7°C The Full Dome Experience (de Dirty Monitor et La Société des Arts Technologiques – Belgique\, Canada et France\, 27 min)\nSeul au Groenland\, le producteur de musique électronique Molécule a capturé les sons de l’Arctique pour composer sa dernière œuvre. Inspirée de cette aventure\, -22.7°C The Full Dome Experience vous embarque dans un voyage initiatique aux sources de la création musicale.\n? Légendes du Ciel Nordique (de Dirty Monitor et La Société des Arts Technologiques – Belgique\, Canada et France\, 27 min)\nPartez en voyage avec les peuples indigènes des plaines occidentales du Canada et partagez la sagesse transmise par les étoiles. Accompagnez Ocek\, le pêcheur\, alors qu’il entreprend avec sa bande d’amis animaux une dangereuse expédition vers le sud pour récupérer l’été et le ramener dans le nord gelé. Pour les Cris-des-Paines\, Ocek courait sans cesse dans le ciel nocturne\, assurant l’arrivée de l’été après le froid et le péril de l’hiver. Apprenez comment le grand tyran\, l’ours géant Mista Maskwa\, a finalement été dompté par une bande d’oiseaux courageux. Cette aventure est inscrite dans les étoiles\, car les oiseaux poursuivent Mista Maskwa chaque nuit\, nous protégeant ainsi de son sale caractère. Les peuples indigènes d’Amérique du Nord ont établi avec le ciel nocturne des liens fondamentaux qui résonnaient avec leur monde. Dans Légendes du ciel nordique\, nous apprenons et apprécions leurs histoires dans les étoiles et\, en retour\, nous en apprenons un peu plus sur l’esprit qui nous relie tous.\n? Noisettes (de Perry Shulak et Alan Nursall – Canada\, 24 min)\nIl était une fois un ciel plein de planètes merveilleuses où se trouvent les noisettes les plus délicieuses. C’est du moins ce que pensent deux écureuils gourmands\, Nino et Lilli. Mais l’herbe est-elle vraiment plus verte ailleurs ? Nos deux acolytes font tout leur possible pour quitter la Terre et répondre à ces questions. Ils feront font la rencontre de Léon\, un vieil hibou.\n? Perdus en Mer : L’Histoire de la Navigation Astronomique (de Lionel Ruiz – France\, 16 min)\nL’histoire de la navigation astronomique racontée par un grand-père à sa petite fille\, des Polynésiens avec les étoiles zénithales\, en passant par l’arbalestrille\, le loch à bateau\, les estimes\, l’invention du chronomètre de marine\, l’octant\, la droite de hauteur et pour terminer le GPS.\n? Black Hole First Picture (de Robin Sip – États-Unis\, 26 min)\nSuivez un voyage de persévérance humaine\, d’ingéniosité et d’imagination\, « Black Hole First Picture » résume une étape historique de la visualisation et de la découverte scientifiques — témoin d’un phénomène largement considéré comme invisible : un trou noir. Les spectateurs des planétariums du monde entier sont pris dans une quête qui fait découvrir les radiotélescopes\, répartis à travers le monde\, qui composent l’Event Horizon Telescope (un réseau mondial d’observatoires radio synchronisés qui travaillent à l’unisson pour capturer des images des trous noirs)\, étudiant le centre de la galaxie Messier 87 et se rendant dans le cœur de la Voie Lactée pour produire la toute première image d’un trou noir. \n| Tout public\n| Durée : 2h30 + entracte de 15 minutes\n| Tarifs : 8 € / soirée (15 € pour les deux soirées)\n| Infos et réservation au 03 21 12 27 27 ou à reservation@lacoupole.com
URL:https://lacoupole-france.com/agenda-culturel/2e-edition-du-festival-fulldome/
CATEGORIES:Autre événement
END:VEVENT
BEGIN:VEVENT
DTSTART;TZID=Europe/Paris:20230916T093000
DTEND;TZID=Europe/Paris:20230917T153000
DTSTAMP:20260423T071946
CREATED:20230824T123546Z
LAST-MODIFIED:20230828T065029Z
UID:23647-1694856600-1694964600@lacoupole-france.com
SUMMARY:Journées européennes du patrimoine 2023 à La Coupole
DESCRIPTION:En septembre 2022\, les Journées européennes du patrimoine reviennent pour une 40e édition ayant pour thème « Patrimoine vivant ». À cette occasion\, La Coupole organise différentes visites et animations. Au programme : \nLe samedi 16 septembre\n? Visites des coulisses du Planétarium 3D\nAccédez à l’envers du décor du Planétarium 3D de La Coupole\, l’un des plus fréquentés de France\, et venez découvrir la structure métallique de son immense dôme numérique et sa régie technique\, accompagné d’un membre de l’équipe.\n| Le samedi 16 et dimanche 17 septembre à ⌚ 9h30 et 10h30\n| Durée : 30 min\n| Tarif : gratuit\n| Sur réservation au ? 03 21 12 27 27 ou à ? reservation@lacoupole.com \n? Visites du Centre de Ressources\nLa conservation préventive\, c’est prévenir et minimiser les dégradations sur les collections : stockage\, manipulation\, environnement de l’objet ou encore archives. Venez découvrir quelques-unes de ces techniques simples pour conserver durablement les documents.\n| Le samedi 16 et dimanche 17 septembre à ⌚ 10h et 11h\n| Durée : 30 min\n| Tarif : gratuit\n| Sur réservation au ? 03 21 12 27 27 ou à ? reservation@lacoupole.com \n? Visites du monument\n(Re)découvrez cet immense bunker\, construit par l’organisation Todt en 1943-1944\, destiné à stocker\, préparer et lancer\, vers le centre-ville de Londres\, l’arme secrète de Hitler : la fusée V2.\n| Le samedi 16 et dimanche 17 septembre à ⌚ 10h et 15h\n| Durée : 1h30\n| Tarif : 6\,50 € / adulte et 4\,50 € / enfant (4-12 ans)\n| Sur réservation au ? 03 21 12 27 27 ou à ? reservation@lacoupole.com \n? Atelier « Sens dessus dessous » (spécial animaux)\nSavais-tu qu’il est possible de découvrir les animaux qui vivent à La Coupole avec chacun de tes cinq sens ? Cet immense dôme de béton et ses habitants ont de nombreux secrets à te dévoiler : alors écoute\, regarde\, touche et sens pour apprendre à mieux les connaître. À la fin de l’atelier\, il te restera un sens à mettre en éveil : le goût\, Pour cela\, un morceau de gâteau te sera proposé pour le goûter.\n| Le dimanche 17 septembre à ⌚ 10h30\n| Jeune public de 5 à 8 ans\n| Durée : 1h\n| Tarif : gratuit\n| Sur réservation au ? 03 21 12 27 27 ou à ? reservation@lacoupole.com \n? Atelier « Chauve qui peut »\nPar le biais d’un conte\, les enfants seront amenés à faire connaissance avec une drôle de petite bête – la chauve-souris qui trouve refuge dans les galeries souterraines de La Coupole. À la fois mythiques et mystérieuses\, qui sont-elles ? Les enfants le découvriront lors de cet atelier et repartiront avec une surprise confectionnée par leurs soins !\n| Le dimanche 17 septembre à ⌚ 14h30\n| Jeune public de 8 à 12 ans\n| Durée : 1h\n| Tarif : gratuit\n| Sur réservation au ? 03 21 12 27 27 ou à ? reservation@lacoupole.com
URL:https://lacoupole-france.com/agenda-culturel/les-journees-europeennes-du-patrimoine-2023-a-la-coupole/
CATEGORIES:Autre événement
END:VEVENT
END:VCALENDAR