BEGIN:VCALENDAR
VERSION:2.0
PRODID:-//La Coupole - ECPv6.15.20//NONSGML v1.0//EN
CALSCALE:GREGORIAN
METHOD:PUBLISH
X-ORIGINAL-URL:https://lacoupole-france.com
X-WR-CALDESC:Évènements pour La Coupole
REFRESH-INTERVAL;VALUE=DURATION:PT1H
X-Robots-Tag:noindex
X-PUBLISHED-TTL:PT1H
BEGIN:VTIMEZONE
TZID:Europe/Paris
BEGIN:DAYLIGHT
TZOFFSETFROM:+0100
TZOFFSETTO:+0200
TZNAME:CEST
DTSTART:20220327T010000
END:DAYLIGHT
BEGIN:STANDARD
TZOFFSETFROM:+0200
TZOFFSETTO:+0100
TZNAME:CET
DTSTART:20221030T010000
END:STANDARD
BEGIN:DAYLIGHT
TZOFFSETFROM:+0100
TZOFFSETTO:+0200
TZNAME:CEST
DTSTART:20230326T010000
END:DAYLIGHT
BEGIN:STANDARD
TZOFFSETFROM:+0200
TZOFFSETTO:+0100
TZNAME:CET
DTSTART:20231029T010000
END:STANDARD
BEGIN:DAYLIGHT
TZOFFSETFROM:+0100
TZOFFSETTO:+0200
TZNAME:CEST
DTSTART:20240331T010000
END:DAYLIGHT
BEGIN:STANDARD
TZOFFSETFROM:+0200
TZOFFSETTO:+0100
TZNAME:CET
DTSTART:20241027T010000
END:STANDARD
END:VTIMEZONE
BEGIN:VEVENT
DTSTART;TZID=Europe/Paris:20231103T170000
DTEND;TZID=Europe/Paris:20231103T200000
DTSTAMP:20260423T033411
CREATED:20220923T134634Z
LAST-MODIFIED:20230928T132645Z
UID:11512-1699030800-1699041600@lacoupole-france.com
SUMMARY:Randonnée (g)astronomique
DESCRIPTION:Encadrée par les médiateurs du Planétarium 3D\, cette randonnée délicieusement conviviale sera ponctuée de plusieurs arrêts pour découvrir le patrimoine local\, l’Histoire\, les Sciences et… la gastronomie. À la nuit tombée\, ils vous accompagneront pour une découverte du ciel. \n| À partir de 7 ans\n| Durée : 3h\n| Tarifs : 9 € / adulte et 6 € / enfant (7-12 ans)\n| Se munir de chaussures de marche et de vêtements chauds\, ainsi que d’une lampe torche\n| Infos et réservation au 03 21 12 27 27 ou à reservation@lacoupole.com
URL:https://lacoupole-france.com/agenda-culturel/randonnee-gastronomique/
CATEGORIES:Autre événement
END:VEVENT
BEGIN:VEVENT
DTSTART;TZID=Europe/Paris:20231110T180000
DTEND;TZID=Europe/Paris:20231110T190000
DTSTAMP:20260423T033411
CREATED:20230928T141137Z
LAST-MODIFIED:20230928T141137Z
UID:24044-1699639200-1699642800@lacoupole-france.com
SUMMARY:La chanson de Dora
DESCRIPTION:Par la compagnie Les Lunaisiens \n« C’est leur secret\, leur adresse\, leur intelligence\, leur courage. Car le courage\, les hommes du camp de Dora n’en manquaient pas. La lumière du jour\, ils ne la voyaient pas\, le bout du tunnel non plus. Pourtant\, certains de ces hommes raconteront à travers leurs mots\, leurs poèmes\, leurs chansons\, la vie du camp\, la chanson de Dora ». \n| À partir de 10 ans\n| Tarif : 5 €\nInfos et réservation au 03 21 12 27 27 ou à reservation@lacoupole.com
URL:https://lacoupole-france.com/agenda-culturel/la-chanson-de-dora/
CATEGORIES:Autre événement
END:VEVENT
BEGIN:VEVENT
DTSTART;TZID=Europe/Paris:20231124T183000
DTEND;TZID=Europe/Paris:20231124T213000
DTSTAMP:20260423T033411
CREATED:20231024T143425Z
LAST-MODIFIED:20231024T143452Z
UID:24333-1700850600-1700861400@lacoupole-france.com
SUMMARY:Les galeries du secret
DESCRIPTION:LES GALERIES DU SECRET\nDans ce jeu d’enquête immersif\, les participants vont se mettre dans la peau de Français de la région\, travaillant dans les galeries souterraines de La Coupole. Ils auront une heure pour en apprendre le plus possible sur le lieu et ses occupants afin de résoudre un certain nombre d’énigmes et d’épreuves. \nVous êtes obligés de rester ensemble\, vous ne pouvez-vous séparer à aucun moment. Vous pouvez circuler librement à l’intérieur du site\, tant que personne ne vous rappelle à l’ordre. Vous êtes libres de parler à qui vous voulez\, de demander ce que vous voulez… mais si quelqu’un vous dit « qu’il vous a à l’œil »\, faites bien attention : vous avez dépassé les bornes et risquez d’avoir une pénalité de temps. \n| À partir de 8 ans\n| Tarif : 12 € / adulte et 6 € / enfant (8-12 ans). Tarif famille : 30 € [2 adultes + 1 enfant (enfant supplémentaire gratuit)]\n| Durée : 1h | Sur réservation \nREPAS + QUIZ HISTOIRE\n19h30 : Possibilité de formule Planche + boisson\n20h30 : Quiz Histoire où vous pourrez tester vos connaissances sur l’histoire du site et la Seconde Guerre mondiale ! Un indice pour vous préparer : au mois d’octobre\, La Coupole aura 80 ans… \n| Tarif : 15 € pour le repas. Gratuit pour le quiz\n| Durée quiz : 1h | Sur réservation \nInfos et réservation au 03 21 12 27 27 ou à reservation@lacoupole.com
URL:https://lacoupole-france.com/agenda-culturel/les-galeries-du-secret/
CATEGORIES:Autre événement
END:VEVENT
END:VCALENDAR