BEGIN:VCALENDAR
VERSION:2.0
PRODID:-//La Coupole - ECPv6.15.20//NONSGML v1.0//EN
CALSCALE:GREGORIAN
METHOD:PUBLISH
X-ORIGINAL-URL:https://lacoupole-france.com
X-WR-CALDESC:Évènements pour La Coupole
REFRESH-INTERVAL;VALUE=DURATION:PT1H
X-Robots-Tag:noindex
X-PUBLISHED-TTL:PT1H
BEGIN:VTIMEZONE
TZID:Europe/Paris
BEGIN:DAYLIGHT
TZOFFSETFROM:+0100
TZOFFSETTO:+0200
TZNAME:CEST
DTSTART:20220327T010000
END:DAYLIGHT
BEGIN:STANDARD
TZOFFSETFROM:+0200
TZOFFSETTO:+0100
TZNAME:CET
DTSTART:20221030T010000
END:STANDARD
BEGIN:DAYLIGHT
TZOFFSETFROM:+0100
TZOFFSETTO:+0200
TZNAME:CEST
DTSTART:20230326T010000
END:DAYLIGHT
BEGIN:STANDARD
TZOFFSETFROM:+0200
TZOFFSETTO:+0100
TZNAME:CET
DTSTART:20231029T010000
END:STANDARD
BEGIN:DAYLIGHT
TZOFFSETFROM:+0100
TZOFFSETTO:+0200
TZNAME:CEST
DTSTART:20240331T010000
END:DAYLIGHT
BEGIN:STANDARD
TZOFFSETFROM:+0200
TZOFFSETTO:+0100
TZNAME:CET
DTSTART:20241027T010000
END:STANDARD
END:VTIMEZONE
BEGIN:VEVENT
DTSTART;TZID=Europe/Paris:20231222T183000
DTEND;TZID=Europe/Paris:20231222T194500
DTSTAMP:20260423T014402
CREATED:20231108T111455Z
LAST-MODIFIED:20231108T111455Z
UID:24868-1703269800-1703274300@lacoupole-france.com
SUMMARY:Conte « Quelle pagaille sur les rails ! »
DESCRIPTION:Dans leurs paniers\, Lisane et sa grand-mère ont cuisiné de bonnes choses pour le réveillon du 24 décembre. C’est l’heure du départ : le train démarre et alors… \n| Animé par la conteuse Christine Charpentier\n| À partir de 5 ans\n| Tarif : 7 € (avec un verre de jus de pomme bio)\n| Durée : 1h15\n| Infos et réservation au 03 21 12 27 27 ou sur reservation@lacoupole.com
URL:https://lacoupole-france.com/agenda-culturel/conte-quelle-pagaille-sur-les-rails/
CATEGORIES:Autre événement
END:VEVENT
END:VCALENDAR