BEGIN:VCALENDAR
VERSION:2.0
PRODID:-//La Coupole - ECPv6.15.20//NONSGML v1.0//EN
CALSCALE:GREGORIAN
METHOD:PUBLISH
X-WR-CALNAME:La Coupole
X-ORIGINAL-URL:https://lacoupole-france.com
X-WR-CALDESC:Évènements pour La Coupole
REFRESH-INTERVAL;VALUE=DURATION:PT1H
X-Robots-Tag:noindex
X-PUBLISHED-TTL:PT1H
BEGIN:VTIMEZONE
TZID:Europe/Paris
BEGIN:DAYLIGHT
TZOFFSETFROM:+0100
TZOFFSETTO:+0200
TZNAME:CEST
DTSTART:20230326T010000
END:DAYLIGHT
BEGIN:STANDARD
TZOFFSETFROM:+0200
TZOFFSETTO:+0100
TZNAME:CET
DTSTART:20231029T010000
END:STANDARD
BEGIN:DAYLIGHT
TZOFFSETFROM:+0100
TZOFFSETTO:+0200
TZNAME:CEST
DTSTART:20240331T010000
END:DAYLIGHT
BEGIN:STANDARD
TZOFFSETFROM:+0200
TZOFFSETTO:+0100
TZNAME:CET
DTSTART:20241027T010000
END:STANDARD
BEGIN:DAYLIGHT
TZOFFSETFROM:+0100
TZOFFSETTO:+0200
TZNAME:CEST
DTSTART:20250330T010000
END:DAYLIGHT
BEGIN:STANDARD
TZOFFSETFROM:+0200
TZOFFSETTO:+0100
TZNAME:CET
DTSTART:20251026T010000
END:STANDARD
END:VTIMEZONE
BEGIN:VEVENT
DTSTART;TZID=Europe/Paris:20240126T183000
DTEND;TZID=Europe/Paris:20240126T193000
DTSTAMP:20260422T235255
CREATED:20240104T100801Z
LAST-MODIFIED:20240104T100922Z
UID:25487-1706293800-1706297400@lacoupole-france.com
SUMMARY:Lecture théâtrale « L'appel du matin »
DESCRIPTION:L’appel du matin s’interroge sur le fait d’être simplement là\, sur la jeunesse et l’insouciance qui font aller de l’avant. Les mots se changent en énergie vitale. C’est un appel à la vie. Dans une œuvre trop méconnue\, et pourtant incontournable\, Charlotte Delbo raconte avec force et poésie ce qui l’a poussée à survivre au milieu de ce chaos : la solidarité entre femmes et le théâtre qui l’ont aidée à s’évader et à tenir debout pendant l’interminable appel du matin. \n| À partir de 10 ans\n| Durée : 1h (lecture théâtrale de 40 minutes suivie d’un échange avec la compagnie Les fous à réAction)\n| Tarif : gratuit\n| Infos et réservation au 03 21 12 27 27 ou à reservation@lacoupole.com
URL:https://lacoupole-france.com/agenda-culturel/lecture-theatrale-lappel-du-matin/
CATEGORIES:Autre événement
END:VEVENT
END:VCALENDAR