BEGIN:VCALENDAR
VERSION:2.0
PRODID:-//La Coupole - ECPv6.15.20//NONSGML v1.0//EN
CALSCALE:GREGORIAN
METHOD:PUBLISH
X-WR-CALNAME:La Coupole
X-ORIGINAL-URL:https://lacoupole-france.com
X-WR-CALDESC:Évènements pour La Coupole
REFRESH-INTERVAL;VALUE=DURATION:PT1H
X-Robots-Tag:noindex
X-PUBLISHED-TTL:PT1H
BEGIN:VTIMEZONE
TZID:Europe/Paris
BEGIN:DAYLIGHT
TZOFFSETFROM:+0100
TZOFFSETTO:+0200
TZNAME:CEST
DTSTART:20230326T010000
END:DAYLIGHT
BEGIN:STANDARD
TZOFFSETFROM:+0200
TZOFFSETTO:+0100
TZNAME:CET
DTSTART:20231029T010000
END:STANDARD
BEGIN:DAYLIGHT
TZOFFSETFROM:+0100
TZOFFSETTO:+0200
TZNAME:CEST
DTSTART:20240331T010000
END:DAYLIGHT
BEGIN:STANDARD
TZOFFSETFROM:+0200
TZOFFSETTO:+0100
TZNAME:CET
DTSTART:20241027T010000
END:STANDARD
BEGIN:DAYLIGHT
TZOFFSETFROM:+0100
TZOFFSETTO:+0200
TZNAME:CEST
DTSTART:20250330T010000
END:DAYLIGHT
BEGIN:STANDARD
TZOFFSETFROM:+0200
TZOFFSETTO:+0100
TZNAME:CET
DTSTART:20251026T010000
END:STANDARD
END:VTIMEZONE
BEGIN:VEVENT
DTSTART;TZID=Europe/Paris:20240228T183000
DTEND;TZID=Europe/Paris:20240228T193000
DTSTAMP:20260422T220513
CREATED:20231205T102908Z
LAST-MODIFIED:20231205T102908Z
UID:25267-1709145000-1709148600@lacoupole-france.com
SUMMARY:Séance sophro-astro
DESCRIPTION:Venez découvrir les planètes\, les étoiles et constellations de notre galaxie dans notre Planétarium 10K-3D\, puis\, confortablement installés dans nos sièges\, laissez-vous guider par la voix d’Elisabeth Goubel\, sophrologue. Sous un ciel étoilé\, elle vous invite à un temps de détente et de relaxation\, un vrai moment pour soi et rien que pour soi ! \n| À partir de 14 ans\n| Tarif : 7 €\n| Infos et réservation au 03 21 12 27 27 ou à reservation@lacoupole.com
URL:https://lacoupole-france.com/agenda-culturel/seance-sophro-astro/
CATEGORIES:Autre événement
END:VEVENT
END:VCALENDAR