BEGIN:VCALENDAR
VERSION:2.0
PRODID:-//La Coupole - ECPv6.15.20//NONSGML v1.0//EN
CALSCALE:GREGORIAN
METHOD:PUBLISH
X-WR-CALNAME:La Coupole
X-ORIGINAL-URL:https://lacoupole-france.com
X-WR-CALDESC:Évènements pour La Coupole
REFRESH-INTERVAL;VALUE=DURATION:PT1H
X-Robots-Tag:noindex
X-PUBLISHED-TTL:PT1H
BEGIN:VTIMEZONE
TZID:Europe/Paris
BEGIN:DAYLIGHT
TZOFFSETFROM:+0100
TZOFFSETTO:+0200
TZNAME:CEST
DTSTART:20230326T010000
END:DAYLIGHT
BEGIN:STANDARD
TZOFFSETFROM:+0200
TZOFFSETTO:+0100
TZNAME:CET
DTSTART:20231029T010000
END:STANDARD
BEGIN:DAYLIGHT
TZOFFSETFROM:+0100
TZOFFSETTO:+0200
TZNAME:CEST
DTSTART:20240331T010000
END:DAYLIGHT
BEGIN:STANDARD
TZOFFSETFROM:+0200
TZOFFSETTO:+0100
TZNAME:CET
DTSTART:20241027T010000
END:STANDARD
BEGIN:DAYLIGHT
TZOFFSETFROM:+0100
TZOFFSETTO:+0200
TZNAME:CEST
DTSTART:20250330T010000
END:DAYLIGHT
BEGIN:STANDARD
TZOFFSETFROM:+0200
TZOFFSETTO:+0100
TZNAME:CET
DTSTART:20251026T010000
END:STANDARD
END:VTIMEZONE
BEGIN:VEVENT
DTSTART;TZID=Europe/Paris:20240419T190000
DTEND;TZID=Europe/Paris:20240419T203000
DTSTAMP:20260422T184337
CREATED:20240313T150119Z
LAST-MODIFIED:20240416T075224Z
UID:26029-1713553200-1713558600@lacoupole-france.com
SUMMARY:Présentation du livre « Enfant d'un ciel en guerre »
DESCRIPTION:C’est à 60 ans que Christian\, fils honteux d’un aviateur de la Wehrmacht\, décide d’investiguer son histoire et celle de ses parents. Désormais\, au crépuscule de sa vie\, alors que vingt années se sont écoulées depuis ses recherches\, il accepte de se confier à Anne Vanhaecke. Pas à pas\, ils décryptent et éclairent ensemble le destin invraisemblable de cette famille franco-allemande. \nEn quête d’identité\, Christian rencontre tous les protagonistes\, rassemble les pièces qui au fil de ses recherches donnent vie et sens à son histoire. Il retrace les évènements majeurs tels que l’opération Dynamo\, la campagne d’Angleterre\, la libération de Buchenwald et la scission des deux Allemagnes en pleine guerre froide. Au-delà des secrets inavoués\, des ambiguïtés\, des tempêtes intérieures\, ce récit éclaire avec force et subtilité le Graal d’un amour filial. Ce chemin salvateur offre à Christian la voie d’une réconciliation avec ceux qui l’ont aimé. \n| En présence de Christian Beese\, fils de l’aviateur\, et d’Anne Vanhaecke\, autrice\n| À partir de 8 ans\n| Gratuit\n| Infos et réservation au 03 21 12 27 27 ou sur evenements@lacoupole.com
URL:https://lacoupole-france.com/agenda-culturel/presentation-du-livre-enfant-dun-ciel-en-guerre/
CATEGORIES:Autre événement
END:VEVENT
END:VCALENDAR