BEGIN:VCALENDAR
VERSION:2.0
PRODID:-//La Coupole - ECPv6.15.20//NONSGML v1.0//EN
CALSCALE:GREGORIAN
METHOD:PUBLISH
X-WR-CALNAME:La Coupole
X-ORIGINAL-URL:https://lacoupole-france.com
X-WR-CALDESC:Évènements pour La Coupole
REFRESH-INTERVAL;VALUE=DURATION:PT1H
X-Robots-Tag:noindex
X-PUBLISHED-TTL:PT1H
BEGIN:VTIMEZONE
TZID:Europe/Paris
BEGIN:DAYLIGHT
TZOFFSETFROM:+0100
TZOFFSETTO:+0200
TZNAME:CEST
DTSTART:20230326T010000
END:DAYLIGHT
BEGIN:STANDARD
TZOFFSETFROM:+0200
TZOFFSETTO:+0100
TZNAME:CET
DTSTART:20231029T010000
END:STANDARD
BEGIN:DAYLIGHT
TZOFFSETFROM:+0100
TZOFFSETTO:+0200
TZNAME:CEST
DTSTART:20240331T010000
END:DAYLIGHT
BEGIN:STANDARD
TZOFFSETFROM:+0200
TZOFFSETTO:+0100
TZNAME:CET
DTSTART:20241027T010000
END:STANDARD
BEGIN:DAYLIGHT
TZOFFSETFROM:+0100
TZOFFSETTO:+0200
TZNAME:CEST
DTSTART:20250330T010000
END:DAYLIGHT
BEGIN:STANDARD
TZOFFSETFROM:+0200
TZOFFSETTO:+0100
TZNAME:CET
DTSTART:20251026T010000
END:STANDARD
END:VTIMEZONE
BEGIN:VEVENT
DTSTART;TZID=Europe/Paris:20240307T143000
DTEND;TZID=Europe/Paris:20240307T163000
DTSTAMP:20260421T122429
CREATED:20221024T072822Z
LAST-MODIFIED:20231205T091510Z
UID:12428-1709821800-1709829000@lacoupole-france.com
SUMMARY:Atelier « Petites histoires du ciel »
DESCRIPTION:Quel temps fera-t-il demain ? Est-il possible d’observer la Lune ? Comment se forme un arc-en-ciel ? Cet atelier\, destiné aux enfants de 3 à 5 ans accompagné d’un adulte\, permet d’aborder de façon ludique des thèmes tels que la météo\, les saisons ou encore les curiosités du ciel. \n| De 3 à 5 ans\n| Tarif : 7 € (goûter du terroir inclus)\n| Infos et réservation au 03 21 12 27 27 ou à reservation@lacoupole.com
URL:https://lacoupole-france.com/agenda-culturel/atelier-petites-histoires-du-ciel/
CATEGORIES:Les ateliers (à destination du « jeune public »)
END:VEVENT
END:VCALENDAR