BEGIN:VCALENDAR
VERSION:2.0
PRODID:-//La Coupole - ECPv6.15.20//NONSGML v1.0//EN
CALSCALE:GREGORIAN
METHOD:PUBLISH
X-WR-CALNAME:La Coupole
X-ORIGINAL-URL:https://lacoupole-france.com
X-WR-CALDESC:Évènements pour La Coupole
REFRESH-INTERVAL;VALUE=DURATION:PT1H
X-Robots-Tag:noindex
X-PUBLISHED-TTL:PT1H
BEGIN:VTIMEZONE
TZID:Europe/Paris
BEGIN:DAYLIGHT
TZOFFSETFROM:+0100
TZOFFSETTO:+0200
TZNAME:CEST
DTSTART:20240331T010000
END:DAYLIGHT
BEGIN:STANDARD
TZOFFSETFROM:+0200
TZOFFSETTO:+0100
TZNAME:CET
DTSTART:20241027T010000
END:STANDARD
BEGIN:DAYLIGHT
TZOFFSETFROM:+0100
TZOFFSETTO:+0200
TZNAME:CEST
DTSTART:20250330T010000
END:DAYLIGHT
BEGIN:STANDARD
TZOFFSETFROM:+0200
TZOFFSETTO:+0100
TZNAME:CET
DTSTART:20251026T010000
END:STANDARD
BEGIN:DAYLIGHT
TZOFFSETFROM:+0100
TZOFFSETTO:+0200
TZNAME:CEST
DTSTART:20260329T010000
END:DAYLIGHT
BEGIN:STANDARD
TZOFFSETFROM:+0200
TZOFFSETTO:+0100
TZNAME:CET
DTSTART:20261025T010000
END:STANDARD
END:VTIMEZONE
BEGIN:VEVENT
DTSTART;TZID=Europe/Paris:20250211T143000
DTEND;TZID=Europe/Paris:20250211T163000
DTSTAMP:20260420T170328
CREATED:20241001T134131Z
LAST-MODIFIED:20241001T134131Z
UID:27400-1739284200-1739291400@lacoupole-france.com
SUMMARY:Atelier-visite « Mission Liberté »
DESCRIPTION:Au cours de cette mission\, tu seras transporté en septembre 1944\, dans la peau d’un enfant qui s’apprête à vivre la libération de la région. Après avoir parcouru l’exposition temporaire à la recherche d’indices\, retrouve à quel endroit se trouvent les libérateurs pour leur venir en aide. Il te restera ensuite à confectionner ton plus beau souvenir de la Libération ! \n| De 8 à 12 ans\n| Tarif : 7 € (goûter du terroir inclus)\n| Infos et réservation au 03 21 12 27 27 ou à evenements@lacoupole.com
URL:https://lacoupole-france.com/agenda-culturel/atelier-visite-mission-liberte/
CATEGORIES:Les ateliers (à destination du « jeune public »)
END:VEVENT
BEGIN:VEVENT
DTSTART;TZID=Europe/Paris:20250218T143000
DTEND;TZID=Europe/Paris:20250218T163000
DTSTAMP:20260420T170328
CREATED:20220620T145903Z
LAST-MODIFIED:20241001T134732Z
UID:9321-1739889000-1739896200@lacoupole-france.com
SUMMARY:Atelier « Résistant(e) et fier(e) de l'être ! »
DESCRIPTION:Imagine-toi engagé(e) dans la Résistance et comme tous tes camarades résistants\, tu as besoin d’un brassard ! Après la découverte de véritables brassards de résistants conservés à La Coupole\, à toi de confectionner le tien avec le matériel mis à ta disposition (tissu\, peinture…). \n| De 8 à 12 ans\n| Tarif : 7 € (goûter du terroir inclus)\n| Infos et réservation au 03 21 12 27 27 ou à evenements@lacoupole.com
URL:https://lacoupole-france.com/agenda-culturel/atelier-resistante-et-fiere-de-letre/
CATEGORIES:Les ateliers (à destination du « jeune public »)
END:VEVENT
BEGIN:VEVENT
DTSTART;TZID=Europe/Paris:20250220T143000
DTEND;TZID=Europe/Paris:20250220T163000
DTSTAMP:20260420T170328
CREATED:20221024T073420Z
LAST-MODIFIED:20250127T134043Z
UID:12430-1740061800-1740069000@lacoupole-france.com
SUMMARY:Atelier « Étoiles et constellations »
DESCRIPTION:Une fois la nuit tombée\, une multitude d’étoiles scintillent dans le ciel. Comment les reconnaître et quelle est l’histoire de ces constellations ? Lors de cet atelier\, les enfants réaliseront une carte du ciel et apprendront à l’utiliser ! \n| De 8 à 12 ans\n| Tarif : 7 € (goûter du terroir inclus)\n| Infos et réservation au 03 21 12 27 27 ou à evenements@lacoupole.com
URL:https://lacoupole-france.com/agenda-culturel/atelier-etoiles-et-constellations-2/
CATEGORIES:Les ateliers (à destination du « jeune public »)
END:VEVENT
END:VCALENDAR