BEGIN:VCALENDAR
VERSION:2.0
PRODID:-//La Coupole - ECPv6.8.2.1//NONSGML v1.0//EN
CALSCALE:GREGORIAN
METHOD:PUBLISH
X-WR-CALNAME:La Coupole
X-ORIGINAL-URL:https://lacoupole-france.com
X-WR-CALDESC:Évènements pour La Coupole
REFRESH-INTERVAL;VALUE=DURATION:PT1H
X-Robots-Tag:noindex
X-PUBLISHED-TTL:PT1H
BEGIN:VTIMEZONE
TZID:Europe/Paris
BEGIN:DAYLIGHT
TZOFFSETFROM:+0100
TZOFFSETTO:+0200
TZNAME:CEST
DTSTART:20220327T010000
END:DAYLIGHT
BEGIN:STANDARD
TZOFFSETFROM:+0200
TZOFFSETTO:+0100
TZNAME:CET
DTSTART:20221030T010000
END:STANDARD
END:VTIMEZONE
BEGIN:VEVENT
DTSTART;TZID=Europe/Paris:20220309T150000
DTEND;TZID=Europe/Paris:20220309T190000
DTSTAMP:20260419T204958
CREATED:20220315T074425Z
LAST-MODIFIED:20220315T075756Z
UID:6295-1646838000-1646852400@lacoupole-france.com
SUMMARY:Formation « Ourson »
DESCRIPTION:Formations de l’École d’Astronomie de La Coupole\, le 9 mars à 15h \nPremier niveau de formation en astronomie à destination des plus jeunes\, il se base sur une approche sensible et sensorielle de leur environnement. Seront abordées les notions de distance\, de temps\, d’espace et d’ordres de grandeurs ainsi que la découverte des notions de jour et de nuit. \nCette formation pose les bases pour pouvoir\, dans un second temps\, intégrer la « Petite Ourse » (9-14 ans). À l’issue de cette animation\, l’enfant aura une meilleure connaissance du monde qui l’entoure pour entamer sa découverte de l’observation et de la compréhension du ciel. \nDe 6 à 8 ans \nDurée : 4h \nTarif : 30 € (goûter inclus) \nRéservations et renseignements pour les formations de l’École d’Astronomie de La Coupole : planetarium@lacoupole.com
URL:https://lacoupole-france.com/agenda-culturel/les-formations-de-lecole-dastronomie-de-la-coupole/
CATEGORIES:Les formations de l’École d’Astronomie de La Coupole
END:VEVENT
END:VCALENDAR