BEGIN:VCALENDAR
VERSION:2.0
PRODID:-//La Coupole - ECPv6.15.20//NONSGML v1.0//EN
CALSCALE:GREGORIAN
METHOD:PUBLISH
X-ORIGINAL-URL:https://lacoupole-france.com
X-WR-CALDESC:Évènements pour La Coupole
REFRESH-INTERVAL;VALUE=DURATION:PT1H
X-Robots-Tag:noindex
X-PUBLISHED-TTL:PT1H
BEGIN:VTIMEZONE
TZID:Europe/Paris
BEGIN:DAYLIGHT
TZOFFSETFROM:+0100
TZOFFSETTO:+0200
TZNAME:CEST
DTSTART:20210328T010000
END:DAYLIGHT
BEGIN:STANDARD
TZOFFSETFROM:+0200
TZOFFSETTO:+0100
TZNAME:CET
DTSTART:20211031T010000
END:STANDARD
BEGIN:DAYLIGHT
TZOFFSETFROM:+0100
TZOFFSETTO:+0200
TZNAME:CEST
DTSTART:20220327T010000
END:DAYLIGHT
BEGIN:STANDARD
TZOFFSETFROM:+0200
TZOFFSETTO:+0100
TZNAME:CET
DTSTART:20221030T010000
END:STANDARD
BEGIN:DAYLIGHT
TZOFFSETFROM:+0100
TZOFFSETTO:+0200
TZNAME:CEST
DTSTART:20230326T010000
END:DAYLIGHT
BEGIN:STANDARD
TZOFFSETFROM:+0200
TZOFFSETTO:+0100
TZNAME:CET
DTSTART:20231029T010000
END:STANDARD
END:VTIMEZONE
BEGIN:VEVENT
DTSTART;TZID=Europe/Paris:20220318T183000
DTEND;TZID=Europe/Paris:20220318T200000
DTSTAMP:20260422T144331
CREATED:20220315T080857Z
LAST-MODIFIED:20220315T080939Z
UID:6311-1647628200-1647633600@lacoupole-france.com
SUMMARY:Projections « Diffusion du documentaire Pingouins et Goéland et leurs 500 petits »
DESCRIPTION:Venez assister à la projection du documentaire événement « Pingouins et Goéland et leurs 500 petits » suivi d’un échange avec le réalisateur Michel Leclerc.  \nSynopsis : C’est l’histoire d’un couple qui ne pouvait pas avoir d’enfants et qui en a eu des centaines. C’est l’histoire d’intellectuels\, anarchistes\, pacifistes\, syndicalistes et féministes. C’est l’histoire d’un couple de résistants qu’on a pris pour des collabos. C’est l’histoire d’Yvonne et Roger Hagnauer que tout le monde appelait Goéland et Pingouin. C’est l’histoire de la maison d’enfants de Sèvres\, une expérience unique de liberté\, de pédagogie et d’ouverture au monde. Et puis c’est aussi mon histoire\, puisque ma mère\, sauvée par ce couple\, a passé dans cette maison toute son enfance. \nTout public \nTarif : Tarif : 6\,50 € / adulte et 4\,50 € / enfant (4-12 ans) \nRenseignements et réservation au 03 21 12 27 27 ou sur reservation@lacoupole.com
URL:https://lacoupole-france.com/agenda-culturel/projections-diffusion-du-documentaire-pingouins-et-goeland-et-leurs-500-petits/
CATEGORIES:Projections
END:VEVENT
END:VCALENDAR