BEGIN:VCALENDAR
VERSION:2.0
PRODID:-//La Coupole - ECPv6.15.20//NONSGML v1.0//EN
CALSCALE:GREGORIAN
METHOD:PUBLISH
X-ORIGINAL-URL:https://lacoupole-france.com
X-WR-CALDESC:Évènements pour La Coupole
REFRESH-INTERVAL;VALUE=DURATION:PT1H
X-Robots-Tag:noindex
X-PUBLISHED-TTL:PT1H
BEGIN:VTIMEZONE
TZID:Europe/Paris
BEGIN:DAYLIGHT
TZOFFSETFROM:+0100
TZOFFSETTO:+0200
TZNAME:CEST
DTSTART:20220327T010000
END:DAYLIGHT
BEGIN:STANDARD
TZOFFSETFROM:+0200
TZOFFSETTO:+0100
TZNAME:CET
DTSTART:20221030T010000
END:STANDARD
BEGIN:DAYLIGHT
TZOFFSETFROM:+0100
TZOFFSETTO:+0200
TZNAME:CEST
DTSTART:20230326T010000
END:DAYLIGHT
BEGIN:STANDARD
TZOFFSETFROM:+0200
TZOFFSETTO:+0100
TZNAME:CET
DTSTART:20231029T010000
END:STANDARD
BEGIN:DAYLIGHT
TZOFFSETFROM:+0100
TZOFFSETTO:+0200
TZNAME:CEST
DTSTART:20240331T010000
END:DAYLIGHT
BEGIN:STANDARD
TZOFFSETFROM:+0200
TZOFFSETTO:+0100
TZNAME:CET
DTSTART:20241027T010000
END:STANDARD
END:VTIMEZONE
BEGIN:VEVENT
DTSTART;TZID=Europe/Paris:20231201T190000
DTEND;TZID=Europe/Paris:20231201T203000
DTSTAMP:20260421T005549
CREATED:20230928T133143Z
LAST-MODIFIED:20230928T133143Z
UID:23983-1701457200-1701462600@lacoupole-france.com
SUMMARY:Avant-première « Retour vers le Big Bang »
DESCRIPTION:« Retour vers le Big Bang : l’histoire de l’Univers » est une épopée à travers l’espace et le temps. Durant cette séance entièrement en direct\, nos animateurs vous feront revivre les plus grandes étapes de l’évolution du cosmos en partant d’aujourd’hui\, puis en remontant dans le passé tout en passant par la formation de la Terre\, de la Lune\, du Système solaire et de notre galaxie. \nPréparez-vous à faire un bond de géant jusqu’aux origines de notre Univers ! \n| En présence des concepteurs de cette nouvelle séance 3D\n| À partir de 10 ans\n| Tarif : gratuit\nInfos et réservation au 03 21 12 27 27 ou à reservation@lacoupole.com
URL:https://lacoupole-france.com/agenda-culturel/avant-premiere-retour-vers-le-big-bang/
CATEGORIES:Projections
END:VEVENT
BEGIN:VEVENT
DTSTART;TZID=Europe/Paris:20231215T183000
DTEND;TZID=Europe/Paris:20231215T200000
DTSTAMP:20260421T005549
CREATED:20230928T140626Z
LAST-MODIFIED:20230928T140646Z
UID:24041-1702665000-1702670400@lacoupole-france.com
SUMMARY:Projection du documentaire « 39-45\, elles n'ont rien oublié »
DESCRIPTION:« 39-45\, elles n’ont rien oublié » retrace le parcours de quatre Françaises durant la Seconde Guerre mondiale. Aujourd’hui\, âgées de 90 ans et plus\, elles nous racontent avec force\, détails et une incroyable dignité comment elles ont survécu de 1939 jusqu’à la Libération\, en nous livrant des témoignages intimes où leurs propres histoires se mêlent à la grande. Quatre destins de femmes (résistante\, rescapée des camps de Ravensbrück et de Bergen-Belsen\, fille de conservateurs de musées\, fille de soldat) qui ont traversé la guerre avec courage et abnégation. Toutes fermement résolues à survivre pour que leurs mémoires ne s’effacent jamais. \n| En présence des réalisateurs\n| À partir de 10 ans\n| Tarif : gratuit\nInfos et réservation au 03 21 12 27 27 ou à reservation@lacoupole.com
URL:https://lacoupole-france.com/agenda-culturel/projection-du-documentaire-39-45-elles-nont-rien-oublie/
CATEGORIES:Projections
END:VEVENT
BEGIN:VEVENT
DTSTART;TZID=Europe/Paris:20231220T160000
DTEND;TZID=Europe/Paris:20231220T180000
DTSTAMP:20260421T005549
CREATED:20221129T104820Z
LAST-MODIFIED:20231130T085107Z
UID:13164-1703088000-1703095200@lacoupole-france.com
SUMMARY:Ciné-goûter « La Reine des neiges 2 »
DESCRIPTION:❄ Venez passer un moment féérique et enchanté au Planétarium 3D de La Coupole lors du ciné-goûter « La Reine des neiges 2 ». \nL’histoire : Pourquoi Elsa est-elle née avec des pouvoirs magiques ? La jeune fille rêve de l’apprendre\, mais la réponse met son royaume en danger. Avec l’aide d’Anna\, Kristoff\, Olaf et Sven\, Elsa entreprend un voyage aussi périlleux qu’extraordinaire. Dans « La Reine des neiges »\, Elsa craignait que ses pouvoirs ne menacent le monde. Dans « La Reine des neiges 2 »\, elle espère qu’ils seront assez puissants pour le sauver. \n| Tout public\n| Tarif : 7 €\n| Projection précédée d’un goûter (coquille de Noël et chocolat chaud)\n| Infos et réservation au 03 21 12 27 27 ou à reservation@lacoupole.com
URL:https://lacoupole-france.com/agenda-culturel/cine-gouter-la-reine-des-neiges/
CATEGORIES:Projections
END:VEVENT
BEGIN:VEVENT
DTSTART;TZID=Europe/Paris:20231220T160000
DTEND;TZID=Europe/Paris:20231220T180000
DTSTAMP:20260421T005549
CREATED:20221129T104820Z
LAST-MODIFIED:20231130T085107Z
UID:13164-1703088000-1703095200@lacoupole-france.com
SUMMARY:Ciné-goûter « La Reine des neiges 2 »
DESCRIPTION:❄ Venez passer un moment féérique et enchanté au Planétarium 3D de La Coupole lors du ciné-goûter « La Reine des neiges 2 ». \nL’histoire : Pourquoi Elsa est-elle née avec des pouvoirs magiques ? La jeune fille rêve de l’apprendre\, mais la réponse met son royaume en danger. Avec l’aide d’Anna\, Kristoff\, Olaf et Sven\, Elsa entreprend un voyage aussi périlleux qu’extraordinaire. Dans « La Reine des neiges »\, Elsa craignait que ses pouvoirs ne menacent le monde. Dans « La Reine des neiges 2 »\, elle espère qu’ils seront assez puissants pour le sauver. \n| Tout public\n| Tarif : 7 €\n| Projection précédée d’un goûter (coquille de Noël et chocolat chaud)\n| Infos et réservation au 03 21 12 27 27 ou à reservation@lacoupole.com
URL:https://lacoupole-france.com/agenda-culturel/cine-gouter-la-reine-des-neiges/
CATEGORIES:Projections
END:VEVENT
END:VCALENDAR