BEGIN:VCALENDAR
VERSION:2.0
PRODID:-//La Coupole - ECPv6.15.20//NONSGML v1.0//EN
CALSCALE:GREGORIAN
METHOD:PUBLISH
X-ORIGINAL-URL:https://lacoupole-france.com
X-WR-CALDESC:Évènements pour La Coupole
REFRESH-INTERVAL;VALUE=DURATION:PT1H
X-Robots-Tag:noindex
X-PUBLISHED-TTL:PT1H
BEGIN:VTIMEZONE
TZID:Europe/Paris
BEGIN:DAYLIGHT
TZOFFSETFROM:+0100
TZOFFSETTO:+0200
TZNAME:CEST
DTSTART:20210328T010000
END:DAYLIGHT
BEGIN:STANDARD
TZOFFSETFROM:+0200
TZOFFSETTO:+0100
TZNAME:CET
DTSTART:20211031T010000
END:STANDARD
BEGIN:DAYLIGHT
TZOFFSETFROM:+0100
TZOFFSETTO:+0200
TZNAME:CEST
DTSTART:20220327T010000
END:DAYLIGHT
BEGIN:STANDARD
TZOFFSETFROM:+0200
TZOFFSETTO:+0100
TZNAME:CET
DTSTART:20221030T010000
END:STANDARD
BEGIN:DAYLIGHT
TZOFFSETFROM:+0100
TZOFFSETTO:+0200
TZNAME:CEST
DTSTART:20230326T010000
END:DAYLIGHT
BEGIN:STANDARD
TZOFFSETFROM:+0200
TZOFFSETTO:+0100
TZNAME:CET
DTSTART:20231029T010000
END:STANDARD
END:VTIMEZONE
BEGIN:VEVENT
DTSTART;TZID=Europe/Paris:20221007T090000
DTEND;TZID=Europe/Paris:20221014T200000
DTSTAMP:20260422T021103
CREATED:20220920T124704Z
LAST-MODIFIED:20221006T135650Z
UID:11295-1665133200-1665777600@lacoupole-france.com
SUMMARY:La Fête de la Science 2022
DESCRIPTION:Du 7 au 14 octobre\, venez célébrer la Fête de la Science à La Coupole ! Au programme de cette 31e édition sur le thème du « Réveil climatique » : \nDu vendredi 7 octobre au jeudi 13 octobre\n? Exposition de photos « Biodiversité et dérèglements climatiques » par la Ligue de Protection des Oiseaux (LPO)\nLa LPO vous propose de découvrir les répercussions du dérèglement climatique sur la biodiversité.\n| Accès libre\n| Tout public \nSamedi 8 octobre\n? Projection du court-métrage « Losing the dark » suivie d’une soirée débat « Ciel étoilé et pollution lumineuse » à 19h30\nLa Coupole et le Parc naturel régional des Caps et Marais d’Opale proposent de comprendre l’impact de l’éclairage anthropique sur le ciel nocturne. Après la diffusion du film « Losing the dark »\, plusieurs spécialistes animeront un échange sur la pollution lumineuse et le public pourra appréhender les connaissances de bases du ciel du soir\, ainsi que manipuler les outils d’observation.\nSoirée animée par Magalie Franchomme (chercheuse à l’Université de Lille et spécialiste de l’aménagement urbain)\, Claire Vandenberghe (animatrice au Parc naturel régional des Caps et Marais d’Opale) et Stéphane Christiaens (président du CERA et animateur au Planétarium 3D de La Coupole)\n| À partir de 12 ans\n| Tarif : gratuit\n| Infos et réservation au 03 21 12 27 27 ou à reservation@lacoupole.com \n? Le « Village des Sciences » de 10h et 7h\nLes partenaires de la Fête de la Science sur l’Audomarois se retrouvent à La Coupole pour proposer des échanges\, des expositions et des animations autour du thème du changement climatique. N’hésitez pas à venir les rencontrer !\n| Accès libre\n| Tout public \nMercredi 12 octobre\n? Le « Bus mystère » (destiné aux enfants) de 14h à 17h30\nDécouverte du thème du changement climatique de manière ludique. Vous ne connaissez pas la destination et encore moins ce que vous allez y faire !\n| De 8 à 12 ans (accompagné d’un adulte)\n| Tarif : gratuit\n| Capacité : 53 places\n| Infos et réservation au 03 21 12 27 27 ou à reservation@lacoupole.com \nVendredi 14 octobre\n? Conférence-quiz « Le Soleil\, notre étoile » à 18h30\nVenez tester vos connaissances et en apprendre davantage sur le Soleil à travers une conférence d’un nouveau genre\, entrecoupée de questions grâce aux boitiers de vote du Planétarium 3D. Notre équipe d’animateurs donnera les réponses et fournira toutes les explications.\n| Tout public\n| Tarif : gratuit\n| Durée : 1h30\n| Infos et réservation au 03 21 12 27 27 ou à reservation@lacoupole.com
URL:https://lacoupole-france.com/agenda-culturel/la-fete-de-la-science-2022/
CATEGORIES:Autre événement
END:VEVENT
BEGIN:VEVENT
DTSTART;TZID=Europe/Paris:20221024T133000
DTEND;TZID=Europe/Paris:20221024T153000
DTSTAMP:20260422T021103
CREATED:20221004T123438Z
LAST-MODIFIED:20221004T123438Z
UID:11826-1666618200-1666625400@lacoupole-france.com
SUMMARY:Atelier « Planètes imaginaires »
DESCRIPTION:Viens découvrir à La Coupole les caractéristiques des planètes du Système solaire\, puis laisse-toi guide par ton imaginaire pour créer ta propre planète. \nAteliers animés par Élisabeth Goubel\, artiste-peintre née au pied du cap Blanc-Nez. Autodidacte\, elle ose aujourd’hui partager ses émotions pour laisser voir ou deviner la richesse de ses mondes intérieurs. \n| De 8 à 12 ans\n| Tarif : 7 € (goûter du terroir inclus)\n| Infos et réservation au 03 21 12 27 27 ou à reservation@lacoupole.com
URL:https://lacoupole-france.com/agenda-culturel/atelier-planetes-imaginaires/
CATEGORIES:Les ateliers (à destination du « jeune public »)
END:VEVENT
BEGIN:VEVENT
DTSTART;TZID=Europe/Paris:20221024T133000
DTEND;TZID=Europe/Paris:20221024T153000
DTSTAMP:20260422T021103
CREATED:20221004T123438Z
LAST-MODIFIED:20221004T123438Z
UID:11826-1666618200-1666625400@lacoupole-france.com
SUMMARY:Atelier « Planètes imaginaires »
DESCRIPTION:Viens découvrir à La Coupole les caractéristiques des planètes du Système solaire\, puis laisse-toi guide par ton imaginaire pour créer ta propre planète. \nAteliers animés par Élisabeth Goubel\, artiste-peintre née au pied du cap Blanc-Nez. Autodidacte\, elle ose aujourd’hui partager ses émotions pour laisser voir ou deviner la richesse de ses mondes intérieurs. \n| De 8 à 12 ans\n| Tarif : 7 € (goûter du terroir inclus)\n| Infos et réservation au 03 21 12 27 27 ou à reservation@lacoupole.com
URL:https://lacoupole-france.com/agenda-culturel/atelier-planetes-imaginaires/
CATEGORIES:Les ateliers (à destination du « jeune public »)
END:VEVENT
BEGIN:VEVENT
DTSTART;TZID=Europe/Paris:20221026T143000
DTEND;TZID=Europe/Paris:20221026T163000
DTSTAMP:20260422T021103
CREATED:20220923T133717Z
LAST-MODIFIED:20221010T100452Z
UID:11503-1666794600-1666801800@lacoupole-france.com
SUMMARY:Atelier « À table en 1940 »
DESCRIPTION:Tickets de rationnement\, ersatz\, rutabagas… Ces mots font penser aux difficultés de se nourrir en temps de guerre. \nDans le cadre de l’opération « Nos musées ont du goût »\, La Coupole propose deux ateliers historico-culinaires ou comment la population s’organisait pour s’alimenter et trouver des produits de substitution. Une dégustation viendra clore l’atelier. \n| De 8 à 12 ans\n| Le mercredi 26 octobre (atelier intergénérationnel destiné aux enfants accompagnés de leurs parents) à 14h30 et le jeudi 3 novembre à 14h30\n| Tarif : 7 € (goûter du terroir inclus)\n| Durée : 2h\n| Infos et réservation au 03 21 12 27 27 ou à reservation@lacoupole.com
URL:https://lacoupole-france.com/agenda-culturel/atelier-a-table-en-1940/
CATEGORIES:Les ateliers (à destination du « jeune public »)
END:VEVENT
END:VCALENDAR