BEGIN:VCALENDAR
VERSION:2.0
PRODID:-//La Coupole - ECPv6.15.20//NONSGML v1.0//EN
CALSCALE:GREGORIAN
METHOD:PUBLISH
X-ORIGINAL-URL:https://lacoupole-france.com
X-WR-CALDESC:Évènements pour La Coupole
REFRESH-INTERVAL;VALUE=DURATION:PT1H
X-Robots-Tag:noindex
X-PUBLISHED-TTL:PT1H
BEGIN:VTIMEZONE
TZID:Europe/Paris
BEGIN:DAYLIGHT
TZOFFSETFROM:+0100
TZOFFSETTO:+0200
TZNAME:CEST
DTSTART:20210328T010000
END:DAYLIGHT
BEGIN:STANDARD
TZOFFSETFROM:+0200
TZOFFSETTO:+0100
TZNAME:CET
DTSTART:20211031T010000
END:STANDARD
BEGIN:DAYLIGHT
TZOFFSETFROM:+0100
TZOFFSETTO:+0200
TZNAME:CEST
DTSTART:20220327T010000
END:DAYLIGHT
BEGIN:STANDARD
TZOFFSETFROM:+0200
TZOFFSETTO:+0100
TZNAME:CET
DTSTART:20221030T010000
END:STANDARD
BEGIN:DAYLIGHT
TZOFFSETFROM:+0100
TZOFFSETTO:+0200
TZNAME:CEST
DTSTART:20230326T010000
END:DAYLIGHT
BEGIN:STANDARD
TZOFFSETFROM:+0200
TZOFFSETTO:+0100
TZNAME:CET
DTSTART:20231029T010000
END:STANDARD
END:VTIMEZONE
BEGIN:VEVENT
DTSTART;TZID=Europe/Paris:20221026T143000
DTEND;TZID=Europe/Paris:20221026T163000
DTSTAMP:20260422T001648
CREATED:20220923T133717Z
LAST-MODIFIED:20221010T100452Z
UID:11503-1666794600-1666801800@lacoupole-france.com
SUMMARY:Atelier « À table en 1940 »
DESCRIPTION:Tickets de rationnement\, ersatz\, rutabagas… Ces mots font penser aux difficultés de se nourrir en temps de guerre. \nDans le cadre de l’opération « Nos musées ont du goût »\, La Coupole propose deux ateliers historico-culinaires ou comment la population s’organisait pour s’alimenter et trouver des produits de substitution. Une dégustation viendra clore l’atelier. \n| De 8 à 12 ans\n| Le mercredi 26 octobre (atelier intergénérationnel destiné aux enfants accompagnés de leurs parents) à 14h30 et le jeudi 3 novembre à 14h30\n| Tarif : 7 € (goûter du terroir inclus)\n| Durée : 2h\n| Infos et réservation au 03 21 12 27 27 ou à reservation@lacoupole.com
URL:https://lacoupole-france.com/agenda-culturel/atelier-a-table-en-1940/
CATEGORIES:Les ateliers (à destination du « jeune public »)
END:VEVENT
BEGIN:VEVENT
DTSTART;TZID=Europe/Paris:20221125T180000
DTEND;TZID=Europe/Paris:20221125T230000
DTSTAMP:20260422T001648
CREATED:20221019T151616Z
LAST-MODIFIED:20221019T151616Z
UID:12326-1669399200-1669417200@lacoupole-france.com
SUMMARY:Soirée Jeux à La Coupole
DESCRIPTION:? Mission secrète dès 18h\nÀ l’heure où le site ferme ses portes et que le silence règne sous le dôme\, replonge-toi dans les années 1940 et tente d’aider l’institutrice lors d’une aventure secrète. Armé de ton sens de l’observation\, collecte les indices sur ton parcours pour accomplir ta mission. Seras-tu prêt à relever le défi ?\n| De 8 à 12 ans (accompagné des parents) \n? Menu planche + boisson dès 19h30 \n? Soirée Jeux de société dès 20h\nAprès la fin de ta mission\, Bonne Pioche organise\, en partenariat avec La Coupole\, une soirée Jeux de société\n| Tout public \n| Tarif (à la carte) : 5 € pour la Mission secrète (gratuit pour les adultes accompagnateurs)\, 12 € le menu Planche avec boisson et 7 € pour la soirée Jeux\n| Infos et réservation au 03 21 12 27 27 ou à reservation@lacoupole.com
URL:https://lacoupole-france.com/agenda-culturel/soiree-jeux-a-la-coupole/
CATEGORIES:Autre événement
END:VEVENT
END:VCALENDAR