BEGIN:VCALENDAR
VERSION:2.0
PRODID:-//La Coupole - ECPv6.15.20//NONSGML v1.0//EN
CALSCALE:GREGORIAN
METHOD:PUBLISH
X-WR-CALNAME:La Coupole
X-ORIGINAL-URL:https://lacoupole-france.com
X-WR-CALDESC:Évènements pour La Coupole
REFRESH-INTERVAL;VALUE=DURATION:PT1H
X-Robots-Tag:noindex
X-PUBLISHED-TTL:PT1H
BEGIN:VTIMEZONE
TZID:Europe/Paris
BEGIN:DAYLIGHT
TZOFFSETFROM:+0100
TZOFFSETTO:+0200
TZNAME:CEST
DTSTART:20220327T010000
END:DAYLIGHT
BEGIN:STANDARD
TZOFFSETFROM:+0200
TZOFFSETTO:+0100
TZNAME:CET
DTSTART:20221030T010000
END:STANDARD
BEGIN:DAYLIGHT
TZOFFSETFROM:+0100
TZOFFSETTO:+0200
TZNAME:CEST
DTSTART:20230326T010000
END:DAYLIGHT
BEGIN:STANDARD
TZOFFSETFROM:+0200
TZOFFSETTO:+0100
TZNAME:CET
DTSTART:20231029T010000
END:STANDARD
BEGIN:DAYLIGHT
TZOFFSETFROM:+0100
TZOFFSETTO:+0200
TZNAME:CEST
DTSTART:20240331T010000
END:DAYLIGHT
BEGIN:STANDARD
TZOFFSETFROM:+0200
TZOFFSETTO:+0100
TZNAME:CET
DTSTART:20241027T010000
END:STANDARD
END:VTIMEZONE
BEGIN:VEVENT
DTSTART;TZID=Europe/Paris:20230127T183000
DTEND;TZID=Europe/Paris:20230127T210000
DTSTAMP:20260422T002121
CREATED:20221129T133323Z
LAST-MODIFIED:20230127T095051Z
UID:13226-1674844200-1674853200@lacoupole-france.com
SUMMARY:Diffusion du documentaire « Sauvons les enfants »
DESCRIPTION:À l’occasion de la Journée internationale dédiée à la mémoire des victimes de l’Holocauste\, qui aura lieu le vendredi 27 janvier prochain\, La Coupole vous propose de venir prendre part à une soirée exceptionnelle. \n? Diffusion du documentaire « Sauvons les enfants » (dès 18h30)\, dédié à la rafle du 11 septembre 1942 et à l’extraordinaire mission de sauvetage réalisée par 23 cheminots.\nLe 11 septembre 1942\, près de 600 juifs du nord de la France sont raflés et réunis dans une gare de marchandise à Lille. 23 cheminots vont alors\, au péril de leur vie\, déjouer l’étroite surveillance des Allemands pour petit à petit faire sortir de la gare puis mettre en sûreté une quarantaine de personnes arrêtées\, dont la plupart sont des enfants. Cet épisode n’est connu que depuis deux ans. Il s’agit pourtant en Europe d’un des plus grands sauvetages de Juifs en partance pour Auschwitz. \n? Témoignage inédit d’Henriette Lerner (dès 19h30)\, âgée de 8 ans en 1942 et qui fut sauvée in extremis en gare de Lille-Fives. Animé par Laurent Seillier. \n? Présentation de l’ouvrage « Aux quatre vents » (dès 20h15) par son autrice Amélie Antoine. \n| À partir de 10 ans\n| Infos et réservation au 03 21 12 27 27 ou à reservation@lacoupole.com
URL:https://lacoupole-france.com/agenda-culturel/diffusion-du-documentaire-sauvons-les-enfants/
CATEGORIES:Projections,Rencontre-témoignage
END:VEVENT
END:VCALENDAR